BEGIN:VCALENDAR
VERSION:2.0
PRODID:-//Shotokan Karate Klubb Botkyrka - ECPv6.13.2.1//NONSGML v1.0//EN
CALSCALE:GREGORIAN
METHOD:PUBLISH
X-WR-CALNAME:Shotokan Karate Klubb Botkyrka
X-ORIGINAL-URL:https://karatebotkyrka.harjassinfotech.org
X-WR-CALDESC:Händelser för Shotokan Karate Klubb Botkyrka
REFRESH-INTERVAL;VALUE=DURATION:PT1H
X-Robots-Tag:noindex
X-PUBLISHED-TTL:PT1H
BEGIN:VTIMEZONE
TZID:Europe/Stockholm
BEGIN:DAYLIGHT
TZOFFSETFROM:+0100
TZOFFSETTO:+0200
TZNAME:CEST
DTSTART:20210328T010000
END:DAYLIGHT
BEGIN:STANDARD
TZOFFSETFROM:+0200
TZOFFSETTO:+0100
TZNAME:CET
DTSTART:20211031T010000
END:STANDARD
END:VTIMEZONE
BEGIN:VEVENT
DTSTART;TZID=Europe/Stockholm:20210331T173000
DTEND;TZID=Europe/Stockholm:20210331T190000
DTSTAMP:20260423T165132
CREATED:20210212T081331Z
LAST-MODIFIED:20240607T070927Z
UID:2325-1617211800-1617217200@karatebotkyrka.harjassinfotech.org
SUMMARY:Årsmöte 2021
DESCRIPTION:Kallelse till Årsmöte\n\nMedlemmar i Shotokan Klubb Botkyrka kallas till ordinarie årsmöte\, onsdagen den 31 mars 2020 kl 17:30\, som kommer avhållas online. \nDagordning för mötet är enligt föreningens stadgar. \nSenast en vecka innan årsmötet kommer att finnas allt material tillgängligt på Shotokan Klubb Botkyrkas hemsidan. Verksamhetsberättelse\, revisor berättelse\, styrelsens förslag samt inkomna motioner. \nRösträtt har personer som varit medlem i föreningen under det senaste förflutna kalenderåret och som fyllt 18 år. En förälder/vårdnadshavare får rösta för minderåriga medlemmar. \nStyrelsen får lämna förslag till ärenden som ska behandlas vid årsmötet. Det får också medlem göra genom att lämna in en motion till styrelsen senast 30 dagar före mötet (senast 1:a mars 2021). \nMotion skickas till info@karatebotkyrka.se eller till postadress nedan. Märk brevet “Motion”. \nShotokan Klubb Botkyrka – Rågången 15 – 145 60 – Norsborg \nVälkomna! \n  \n\nÅrsmötesprotokoll 2021 \n\nVerksamhetsberättelse 2020 \n  \nEkonomisk Berättelse 2020 \n  \nRevisionsberättelse 2020 \n  \nDagordning 2021
URL:https://karatebotkyrka.harjassinfotech.org/event/arsmote-2020-2/
CATEGORIES:Möte
ATTACH;FMTTYPE=image/jpeg:https://karatebotkyrka.harjassinfotech.org/wp-content/uploads/2021/02/179539.jpg
END:VEVENT
END:VCALENDAR