BEGIN:VCALENDAR
VERSION:2.0
PRODID:-//Shotokan Karate Klubb Botkyrka - ECPv6.13.2.1//NONSGML v1.0//EN
CALSCALE:GREGORIAN
METHOD:PUBLISH
X-WR-CALNAME:Shotokan Karate Klubb Botkyrka
X-ORIGINAL-URL:https://karatebotkyrka.harjassinfotech.org
X-WR-CALDESC:Händelser för Shotokan Karate Klubb Botkyrka
REFRESH-INTERVAL;VALUE=DURATION:PT1H
X-Robots-Tag:noindex
X-PUBLISHED-TTL:PT1H
BEGIN:VTIMEZONE
TZID:Europe/Stockholm
BEGIN:DAYLIGHT
TZOFFSETFROM:+0100
TZOFFSETTO:+0200
TZNAME:CEST
DTSTART:20220327T010000
END:DAYLIGHT
BEGIN:STANDARD
TZOFFSETFROM:+0200
TZOFFSETTO:+0100
TZNAME:CET
DTSTART:20221030T010000
END:STANDARD
END:VTIMEZONE
BEGIN:VEVENT
DTSTART;TZID=Europe/Stockholm:20220330T180000
DTEND;TZID=Europe/Stockholm:20220330T193000
DTSTAMP:20260423T165125
CREATED:20220214T110520Z
LAST-MODIFIED:20240607T071040Z
UID:3391-1648663200-1648668600@karatebotkyrka.harjassinfotech.org
SUMMARY:Årsmöte 2022
DESCRIPTION:Kallelse till Årsmöte\n\nMedlemmar i Shotokan Klubb Botkyrka kallas till ordinarie årsmöte\, onsdagen den 30 mars 2022 kl 18:00\, som kommer avhållas online. \nDagordning för mötet är enligt föreningens stadgar. \nSenast en vecka innan årsmötet kommer att finnas allt material tillgängligt på Shotokan Klubb Botkyrkas hemsidan. Verksamhetsberättelse\, revisor berättelse\, styrelsens förslag samt inkomna motioner. \nRösträtt har personer som varit medlem i föreningen under det senaste förflutna kalenderåret och som fyllt 18 år. En förälder/vårdnadshavare får rösta för minderåriga medlemmar. \nStyrelsen får lämna förslag till ärenden som ska behandlas vid årsmötet. Det får också medlem göra genom att lämna in en motion till styrelsen senast 30 dagar före mötet (senast 28:e februari 2022). \nMotion skickas till info@karatebotkyrka.se eller till postadress nedan. Märk brevet “Motion”. \nShotokan Klubb Botkyrka – Rågången 15 – 145 60 – Norsborg \nVälkomna! \n  \n\n \nVerksamhetsberättelse 2021 \nEkonomisk Berättelse 2021 \nRevisionsberättelse 2021 \nDagordning 2022 \nÅrsmötesprotokoll 2022
URL:https://karatebotkyrka.harjassinfotech.org/event/arsmote-2022/
CATEGORIES:Möte
ATTACH;FMTTYPE=image/jpeg:https://karatebotkyrka.harjassinfotech.org/wp-content/uploads/2022/02/Arsmote_2022_Shotokan_Karate_Klubb_Botkyrka.jpg
END:VEVENT
END:VCALENDAR