BEGIN:VCALENDAR
VERSION:2.0
PRODID:-//Shotokan Karate Klubb Botkyrka - ECPv6.13.2.1//NONSGML v1.0//EN
CALSCALE:GREGORIAN
METHOD:PUBLISH
X-WR-CALNAME:Shotokan Karate Klubb Botkyrka
X-ORIGINAL-URL:https://karatebotkyrka.harjassinfotech.org
X-WR-CALDESC:Händelser för Shotokan Karate Klubb Botkyrka
REFRESH-INTERVAL;VALUE=DURATION:PT1H
X-Robots-Tag:noindex
X-PUBLISHED-TTL:PT1H
BEGIN:VTIMEZONE
TZID:Europe/Stockholm
BEGIN:DAYLIGHT
TZOFFSETFROM:+0100
TZOFFSETTO:+0200
TZNAME:CEST
DTSTART:20240331T010000
END:DAYLIGHT
BEGIN:STANDARD
TZOFFSETFROM:+0200
TZOFFSETTO:+0100
TZNAME:CET
DTSTART:20241027T010000
END:STANDARD
END:VTIMEZONE
BEGIN:VEVENT
DTSTART;TZID=Europe/Stockholm:20240825T120000
DTEND;TZID=Europe/Stockholm:20240825T130000
DTSTAMP:20260423T225425
CREATED:20240716T131215Z
LAST-MODIFIED:20240718T115823Z
UID:5000-1724587200-1724590800@karatebotkyrka.harjassinfotech.org
SUMMARY:Prova på – ungdomar/vuxna
DESCRIPTION:
URL:https://karatebotkyrka.harjassinfotech.org/event/prova-pa-ungdomar-vuxna-12/
LOCATION:Kvarnhagsskolan\, Servitutsvägen 17A\, Norsborg\, 14559
CATEGORIES:Träning
END:VEVENT
END:VCALENDAR