BEGIN:VCALENDAR
VERSION:2.0
PRODID:-//Shotokan Karate Klubb Botkyrka - ECPv6.13.2.1//NONSGML v1.0//EN
CALSCALE:GREGORIAN
METHOD:PUBLISH
X-WR-CALNAME:Shotokan Karate Klubb Botkyrka
X-ORIGINAL-URL:https://karatebotkyrka.harjassinfotech.org
X-WR-CALDESC:Händelser för Shotokan Karate Klubb Botkyrka
REFRESH-INTERVAL;VALUE=DURATION:PT1H
X-Robots-Tag:noindex
X-PUBLISHED-TTL:PT1H
BEGIN:VTIMEZONE
TZID:Europe/Stockholm
BEGIN:DAYLIGHT
TZOFFSETFROM:+0100
TZOFFSETTO:+0200
TZNAME:CEST
DTSTART:20230326T010000
END:DAYLIGHT
BEGIN:STANDARD
TZOFFSETFROM:+0200
TZOFFSETTO:+0100
TZNAME:CET
DTSTART:20231029T010000
END:STANDARD
END:VTIMEZONE
BEGIN:VEVENT
DTSTART;TZID=Europe/Stockholm:20231104T110000
DTEND;TZID=Europe/Stockholm:20231104T120000
DTSTAMP:20260423T201022
CREATED:20231101T110325Z
LAST-MODIFIED:20231101T110339Z
UID:4542-1699095600-1699099200@karatebotkyrka.harjassinfotech.org
SUMMARY:Träning - Barn
DESCRIPTION:
URL:https://karatebotkyrka.harjassinfotech.org/event/traning-barn-18-2-2/
LOCATION:Alby Sporthall\, Albyvägen 20\, Norsborg\, 14559
CATEGORIES:Träning
END:VEVENT
END:VCALENDAR