BEGIN:VCALENDAR
VERSION:2.0
PRODID:-//Shotokan Karate Klubb Botkyrka - ECPv6.13.2.1//NONSGML v1.0//EN
CALSCALE:GREGORIAN
METHOD:PUBLISH
X-WR-CALNAME:Shotokan Karate Klubb Botkyrka
X-ORIGINAL-URL:https://karatebotkyrka.harjassinfotech.org
X-WR-CALDESC:Händelser för Shotokan Karate Klubb Botkyrka
REFRESH-INTERVAL;VALUE=DURATION:PT1H
X-Robots-Tag:noindex
X-PUBLISHED-TTL:PT1H
BEGIN:VTIMEZONE
TZID:Europe/Stockholm
BEGIN:DAYLIGHT
TZOFFSETFROM:+0100
TZOFFSETTO:+0200
TZNAME:CEST
DTSTART:20230326T010000
END:DAYLIGHT
BEGIN:STANDARD
TZOFFSETFROM:+0200
TZOFFSETTO:+0100
TZNAME:CET
DTSTART:20231029T010000
END:STANDARD
END:VTIMEZONE
BEGIN:VEVENT
DTSTART;TZID=Europe/Stockholm:20230117T180000
DTEND;TZID=Europe/Stockholm:20230117T193000
DTSTAMP:20260423T181523
CREATED:20230115T125928Z
LAST-MODIFIED:20230605T193504Z
UID:4265-1673978400-1673983800@karatebotkyrka.harjassinfotech.org
SUMMARY:Träning - Tävlingsgruppen
DESCRIPTION:
URL:https://karatebotkyrka.harjassinfotech.org/event/traning-tavlingsgruppen/
LOCATION:Albys Hjärta\, Albyvägen 7\, Norsborg
CATEGORIES:Träning
END:VEVENT
END:VCALENDAR