BEGIN:VCALENDAR
VERSION:2.0
PRODID:-//Shotokan Karate Klubb Botkyrka - ECPv6.13.2.1//NONSGML v1.0//EN
CALSCALE:GREGORIAN
METHOD:PUBLISH
X-WR-CALNAME:Shotokan Karate Klubb Botkyrka
X-ORIGINAL-URL:https://karatebotkyrka.harjassinfotech.org
X-WR-CALDESC:Händelser för Shotokan Karate Klubb Botkyrka
REFRESH-INTERVAL;VALUE=DURATION:PT1H
X-Robots-Tag:noindex
X-PUBLISHED-TTL:PT1H
BEGIN:VTIMEZONE
TZID:Europe/Stockholm
BEGIN:DAYLIGHT
TZOFFSETFROM:+0100
TZOFFSETTO:+0200
TZNAME:CEST
DTSTART:20210328T010000
END:DAYLIGHT
BEGIN:STANDARD
TZOFFSETFROM:+0200
TZOFFSETTO:+0100
TZNAME:CET
DTSTART:20211031T010000
END:STANDARD
END:VTIMEZONE
BEGIN:VEVENT
DTSTART;TZID=Europe/Stockholm:20210211T202000
DTEND;TZID=Europe/Stockholm:20210211T212000
DTSTAMP:20260423T221031
CREATED:20210204T205255Z
LAST-MODIFIED:20210204T205255Z
UID:2289-1613074800-1613078400@karatebotkyrka.harjassinfotech.org
SUMMARY:Utomhus Träning - Svarta bälten
DESCRIPTION:
URL:https://karatebotkyrka.harjassinfotech.org/event/utomhus-traning-svarta-balten-2/
CATEGORIES:Träning
END:VEVENT
END:VCALENDAR